BEGIN:VCALENDAR
VERSION:2.0
PRODID:-//ISMST - ECPv6.0.10//NONSGML v1.0//EN
CALSCALE:GREGORIAN
METHOD:PUBLISH
X-ORIGINAL-URL:https://shockwavetherapy.org
X-WR-CALDESC:Events for ISMST
REFRESH-INTERVAL;VALUE=DURATION:PT1H
X-Robots-Tag:noindex
X-PUBLISHED-TTL:PT1H
BEGIN:VTIMEZONE
TZID:UTC
BEGIN:STANDARD
TZOFFSETFROM:+0000
TZOFFSETTO:+0000
TZNAME:UTC
DTSTART:20250101T000000
END:STANDARD
TZID:Asia/Tokyo
BEGIN:STANDARD
TZOFFSETFROM:+0900
TZOFFSETTO:+0900
TZNAME:JST
DTSTART:20250101T000000
END:STANDARD
END:VTIMEZONE
BEGIN:VEVENT
DTSTART;VALUE=DATE:20250917
DTEND;VALUE=DATE:20250921
DTSTAMP:20260420T064317
CREATED:20250211T173242Z
LAST-MODIFIED:20250211T173651Z
UID:1032-1758067200-1758412799@shockwavetherapy.org
SUMMARY:27th ISMST World Congress
DESCRIPTION:Dear ISMST Members\, Colleagues\, and Friends\, \nOn behalf of the Organizing Committee\, we are honored and privileged to invite you to the 27th ISMST World Congress\, taking place from September 17-20 at the spectacular Grand Hyatt Hotel in Bogotá\, Colombia. This congress offers an exciting opportunity for our global community to come together\, exchange knowledge\, share innovations\, and strengthen our collective efforts in advancing the field of shockwave treatments.\nThe ISMST World Congress has long been the premier platform for fostering collaboration among researchers\, clinicians\, and industry leaders. This year\, our academic program enhances our commitment to exploring new frontiers in shockwave treatments and their expanding applications. From foundational principles to cutting-edge advancements\, our program is designed to train both experienced practitioners and newcomers alike. \nWe will celebrate 25 years of Shockwave Treatments in Latin America\, a journey we began in Bogotá and São Paulo in 2000. It has been a profound honor to lead this movement\, evolving from initial skepticism to strong evidence and widespread adoption. Today\, we take pride in our role as co-chairs of this World Congress. What started as collaboration between Colombia and Brazil has expanded throughout the Americas\, and we remain committed to fostering teamwork and driving continued growth in the field. \nHighlights of the 2025 Congress will include expert-led lectures and discussions\, where participants will gain valuable insights from leading authorities\, sharing their research findings\, clinical experiences\, and visions for the future. Specialized tracks and workshops will cover key topics such as pain management\, sports medicine\, dermatology\, cardiology neurology\, and regenerative medicine. Additionally\, a pre-congress instructional course will focus on ultrasound-guided procedures\, injectables\, and orthobiologics\, enhancing the therapeutic integration of regenerative medicine technologies. \nThe ISMST ICC Hands-on Instructional Certification Course provides practical training and the chance to earn an official ISMST International Certification Diploma through mentorship by experienced instructors. This prestigious global certification in shockwave medicine focuses on training doctors and physical therapists annually. The ICC covers the proper use of medical and therapeutic shockwaves\, pressure waves\, and the most effective methods for applying and following treatments. Attendees who pass the ICC will automatically become ISMST members at no additional cost. This exclusive opportunity to learn from top experts and ISMST instructors is available only once a year—don’t miss this invaluable experience in Bogotá. \nNetworking opportunities will allow attendees to engage with colleagues from around the world in an atmosphere conducive to collaboration and knowledge exchange. The social program will also highlight Bogotá’s cultural and historical treasures\, offering a perfect balance of professional development and leisure.\nWe are committed to creating a vibrant\, inclusive environment that fosters learning\, growth\, and meaningful connections. Your participation and contributions are what make our congress truly special\, and we look forward to welcoming you to Bogotá for an unforgettable event. \nRegister today in www.ismst2025.com and join us in shaping the future of shockwave treatments. \nWarm regards\,\nCarlos Leal                                                                                             José Eid\nISMST 2025 Co-Chair                                                                            ISMST 2025 Co-Chair  \nISMST Scientific Secretary                                                                     ISMST General Secretary
URL:https://shockwavetherapy.org/event/27th-ismst-world-congress/
LOCATION:Grand Hyatt Hotel\, Bogotá\, Colombia\, Cl. 24a #57 – 60\, Bogotá\, Colombia
ATTACH;FMTTYPE=image/jpeg:https://shockwavetherapy.org/wp-content/uploads/2025/02/Diseno-sin-titulo-6.jpg
END:VEVENT
BEGIN:VEVENT
DTSTART;TZID=UTC:20251023T080000
DTEND;TZID=UTC:20251025T170000
DTSTAMP:20260420T064317
CREATED:20250403T172656Z
LAST-MODIFIED:20250915T162139Z
UID:1075-1761206400-1761411600@shockwavetherapy.org
SUMMARY:SETOC - October 23 -25\, 2025\, Ourense\, Spain
DESCRIPTION:Save the date!
URL:https://shockwavetherapy.org/event/setoc-october-23-25-2025-ourense-spain/
LOCATION:Centro Marcos Valcárcel
ATTACH;FMTTYPE=image/jpeg:https://shockwavetherapy.org/wp-content/uploads/2025/04/SETOC-23-24-25-octubre-Ourense.jpg
END:VEVENT
BEGIN:VEVENT
DTSTART;TZID=Asia/Tokyo:20251214T080000
DTEND;TZID=Asia/Tokyo:20251214T180000
DTSTAMP:20260420T064317
CREATED:20251104T093518Z
LAST-MODIFIED:20251104T094229Z
UID:1160-1765699200-1765735200@shockwavetherapy.org
SUMMARY:KASRM CME Course
DESCRIPTION:📣 Join the 2025 KASRM CME Course! \n(Korean Association of Shockwave Regenerative Medicine)\nExplore the latest advancements in shockwave treatment at our comprehensive one-day course in Seoul. \n🗓️ Date: December 14\, 2025 (Sunday)\, 08:40-18:00 \n📍 Location: SC Convention Center\, Seoul\, South Korea \n🌍 Special Note for International Attendees\n* Language: The primary language of the course is Korean.\n* Translation: To support our international guests\, an on-site AI translation service will be available to assist you. \n✨ Course Highlights\nDive deep into the world of Shockwave Treatment with expert-led sessions:\n* Fundamentals: Master the core principles (Physics & Biology).\n* Live Demos: Observe real-time applications (Shoulder\, Elbow\, Knee\, Spine).\n* Workshops: Gain hands-on insights in Aesthetics & Urology.\n* Exclusive Gift: Receive the [Shockwave Treatment Q&A 2025 Ver.] booklet. \n🎟️ Registration Information\n💰 Registration Fee (Specialist):\nApproximately $80 – $90 USD (₩110\,000 KRW) \n✅ How to Register:\nOn-site registration is available on the day of the event (Dec 14). \n* For inquiries:\n* Email: kasrm2024@gmail.com\n* Homepage: https://www.kamst.org/page/eng_main \n#ShockwaveTreatment #RegenerativeMedicine #KASRM #CME #KoreanMedical #MedTwitter
URL:https://shockwavetherapy.org/event/kasrm-cme-course/
LOCATION:SC Convention Center\, 22\, Teheran-ro 7-gil\, Gangnam-gu\, Seoul\, Korea\, Republic of
END:VEVENT
BEGIN:VEVENT
DTSTART;VALUE=DATE:20260624
DTEND;VALUE=DATE:20260628
DTSTAMP:20260420T064317
CREATED:20251103T100653Z
LAST-MODIFIED:20260121T092132Z
UID:1145-1782259200-1782604799@shockwavetherapy.org
SUMMARY:28th ISMST World Congress
DESCRIPTION:Dear ISMST Members\, Colleagues\, and Friends\, \nGet ready for an unforgettable experience in Madrid! \nWe are delighted to invite you to the next ISMST World Congress\, taking place in one of the world’s most vibrant and welcoming cities— Madrid\, Spain. \nThis is the must-attend event of the year for anyone passionate about Shockwave Therapy and Regenerative Medicine. Discover the latest research\, breakthrough technologies\, and the future of clinical applications in  neurology\, urology\, and cardiology. \nWe’ll begin with the prestigious ISMST ICC Hands-On Instructional Certification Course — the most respected global certification in Shockwave Medicine. This course is designed for physicians and physical therapists who want to become certified experts\, guided by the most experienced international instructors. Join world-renowned instructors and gain exclusive hands-on training to become an internationally certified expert in the field. \nOur venue\, the Meliá Castilla Hotel\, is located right in the heart of the city — just 100 meters from the iconic Santiago Bernabéu Stadium\, legendary home of Real Madrid! \nEnjoy the perfect mix of science\, culture\, and lifestyle as you explore Madrid’s energy\, history\, and cuisine — all within walking distance. \nWe’re also preparing a few special surprises to make this congress an unforgettable experience. With outstanding speakers from across continents and the participation of our guest societies\, the Italian SITOD and the Portuguese APOTOC\, we’re setting the stage for a truly exceptional scientific and cultural event. \n✨ The future of Shockwave Medicine starts here — and it starts with you! \nDr. Karin Freitag                                                                  Dr. Manuela Cabrera Freitag
URL:https://shockwavetherapy.org/event/28th-ismst-world-congress/
LOCATION:Meliá Castilla Hotel\, C. del Poeta Joan Maragall\, 43\, Madrid\, 28020\, Spain
END:VEVENT
END:VCALENDAR